BEGIN:VCALENDAR
VERSION:2.0
PRODID:-//Cub Scouts Pack 2214 - ECPv6.15.17.1//NONSGML v1.0//EN
CALSCALE:GREGORIAN
METHOD:PUBLISH
X-WR-CALNAME:Cub Scouts Pack 2214
X-ORIGINAL-URL:https://pack2214.org
X-WR-CALDESC:Events for Cub Scouts Pack 2214
REFRESH-INTERVAL;VALUE=DURATION:PT1H
X-Robots-Tag:noindex
X-PUBLISHED-TTL:PT1H
BEGIN:VTIMEZONE
TZID:America/New_York
BEGIN:DAYLIGHT
TZOFFSETFROM:-0500
TZOFFSETTO:-0400
TZNAME:EDT
DTSTART:20250309T070000
END:DAYLIGHT
BEGIN:STANDARD
TZOFFSETFROM:-0400
TZOFFSETTO:-0500
TZNAME:EST
DTSTART:20251102T060000
END:STANDARD
BEGIN:DAYLIGHT
TZOFFSETFROM:-0500
TZOFFSETTO:-0400
TZNAME:EDT
DTSTART:20260308T070000
END:DAYLIGHT
BEGIN:STANDARD
TZOFFSETFROM:-0400
TZOFFSETTO:-0500
TZNAME:EST
DTSTART:20261101T060000
END:STANDARD
BEGIN:DAYLIGHT
TZOFFSETFROM:-0500
TZOFFSETTO:-0400
TZNAME:EDT
DTSTART:20270314T070000
END:DAYLIGHT
BEGIN:STANDARD
TZOFFSETFROM:-0400
TZOFFSETTO:-0500
TZNAME:EST
DTSTART:20271107T060000
END:STANDARD
END:VTIMEZONE
BEGIN:VEVENT
DTSTART;TZID=America/New_York:20260519T190000
DTEND;TZID=America/New_York:20260519T200000
DTSTAMP:20260424T082204
CREATED:20260313T211729Z
LAST-MODIFIED:20260313T213307Z
UID:10000033-1779217200-1779220800@pack2214.org
SUMMARY:Monthly Pack Meeting
DESCRIPTION:Join Cub Scout Pack 2214 for our monthly Pack Meetings\, where all of our dens (grades K–5) come together for fun\, learning\, and scout spirit! Each meeting features hands-on activities\, recognition of our scouts’ achievements\, important announcements\, and themed adventures designed to build character\, citizenship\, and confidence. \nThese meetings are open to all families interested in learning more about Cub Scouting. Whether you’re already part of the Pack or just curious\, you’re welcome to come see what we’re all about. \nCome join the adventure!
URL:https://pack2214.org/event/monthly-pack-meeting-2/2026-05-19/
LOCATION:Cape St. Claire Clubhouse\, 1223 Riverbay Road\, Annapolis\, MD\, 21409\, United States
CATEGORIES:Pack Meeting
ORGANIZER;CN="Pack 2214":MAILTO:packcommittee2214@gmail.com
END:VEVENT
END:VCALENDAR